BEGIN:VCALENDAR
VERSION:2.0
PRODID:-//Tibetan National Sports Association - ECPv6.13.2.1//NONSGML v1.0//EN
CALSCALE:GREGORIAN
METHOD:PUBLISH
X-WR-CALNAME:Tibetan National Sports Association
X-ORIGINAL-URL:http://tibetansports.org
X-WR-CALDESC:Events for Tibetan National Sports Association
REFRESH-INTERVAL;VALUE=DURATION:PT1H
X-Robots-Tag:noindex
X-PUBLISHED-TTL:PT1H
BEGIN:VTIMEZONE
TZID:Asia/Kolkata
BEGIN:STANDARD
TZOFFSETFROM:+0530
TZOFFSETTO:+0530
TZNAME:IST
DTSTART:20170101T000000
END:STANDARD
END:VTIMEZONE
BEGIN:VEVENT
DTSTART;VALUE=DATE:20170807
DTEND;VALUE=DATE:20170808
DTSTAMP:20260423T174016
CREATED:20180110T100242Z
LAST-MODIFIED:20180110T100242Z
UID:3294-1502064000-1502150399@tibetansports.org
SUMMARY:Donate & Support Tenzin Pema
DESCRIPTION:
URL:http://tibetansports.org/event/donate-support-tenzin-pema-2/
END:VEVENT
BEGIN:VEVENT
DTSTART;VALUE=DATE:20170807
DTEND;VALUE=DATE:20170808
DTSTAMP:20260423T174016
CREATED:20180110T100242Z
LAST-MODIFIED:20180110T100242Z
UID:3545-1502064000-1502150399@tibetansports.org
SUMMARY:Donate & Support Tenzin Pema
DESCRIPTION:
URL:http://tibetansports.org/event/donate-support-tenzin-pema/
END:VEVENT
BEGIN:VEVENT
DTSTART;VALUE=DATE:20170807
DTEND;VALUE=DATE:20170808
DTSTAMP:20260423T174016
CREATED:20180110T100242Z
LAST-MODIFIED:20180110T100242Z
UID:3680-1502064000-1502150399@tibetansports.org
SUMMARY:Donate & Support Tenzin Pema
DESCRIPTION:
URL:http://tibetansports.org/event/donate-support-tenzin-pema-4/
END:VEVENT
BEGIN:VEVENT
DTSTART;VALUE=DATE:20170807
DTEND;VALUE=DATE:20170808
DTSTAMP:20260423T174016
CREATED:20180110T100242Z
LAST-MODIFIED:20180110T100242Z
UID:3646-1502064000-1502150399@tibetansports.org
SUMMARY:Donate & Support Tenzin Pema
DESCRIPTION:
URL:http://tibetansports.org/event/donate-support-tenzin-pema-3/
END:VEVENT
END:VCALENDAR